
BEGIN:VCALENDAR
METHOD:PUBLISH
VERSION:2.0
CALSCALE:GREGORIAN
PRODID:-//NONSGML WPForms//NONSGML Sugar Calendar Feeds v3.10.0//EN
X-WR-CALNAME:Youth Open Gym @ SOCA Field House
X-WR-CALDESC:Soccer Organization Charlottesville Area
X-WR-TIMEZONE:America/New_York
BEGIN:VTIMEZONE
TZID:America/New_York
BEGIN:DAYLIGHT
TZOFFSETFROM:-0500
TZOFFSETTO:-0400
DTSTART:20250309T070000
TZNAME:EDT
END:DAYLIGHT
END:VTIMEZONE
BEGIN:VTIMEZONE
TZID:America/New_York
BEGIN:DAYLIGHT
TZOFFSETFROM:-0500
TZOFFSETTO:-0400
DTSTART:20250309T070000
TZNAME:EDT
END:DAYLIGHT
END:VTIMEZONE
BEGIN:VEVENT
SUMMARY:Youth Open Gym @ SOCA Field House
DESCRIPTION:Free play for youth players at the SOCA Field House from 6:0
 0-7:30pm\n\n$8 registration online\, $10 at the door
URL;VALUE=URI:https://www.socaspot.org/events/youth-open-gym-soca-field-
 house/
UID:urn:uuid:c2904e89-83ff-46cc-8d9f-bcf0317862e8
STATUS:CONFIRMED
ORGANIZER:
DTSTAMP:20260421T091241Z
DTSTART;TZID=America/New_York:20250703T180000
DTEND;TZID=America/New_York:20250703T193000
END:VEVENT
END:VCALENDAR