
BEGIN:VCALENDAR
METHOD:PUBLISH
VERSION:2.0
CALSCALE:GREGORIAN
PRODID:-//NONSGML WPForms//NONSGML Sugar Calendar Feeds v3.10.0//EN
X-WR-CALNAME:U15 Girls Challenge Player Placement Session
X-WR-CALDESC:Soccer Organization Charlottesville Area
X-WR-TIMEZONE:America/New_York
BEGIN:VTIMEZONE
TZID:America/New_York
BEGIN:DAYLIGHT
TZOFFSETFROM:-0500
TZOFFSETTO:-0400
DTSTART:20250309T070000
TZNAME:EDT
END:DAYLIGHT
END:VTIMEZONE
BEGIN:VTIMEZONE
TZID:America/New_York
BEGIN:DAYLIGHT
TZOFFSETFROM:-0500
TZOFFSETTO:-0400
DTSTART:20250309T070000
TZNAME:EDT
END:DAYLIGHT
END:VTIMEZONE
BEGIN:VEVENT
SUMMARY:U15 Girls Challenge Player Placement Session
DESCRIPTION:Annual Player Placement Schedule - Soccer Organization Charl
 ottesville Area
URL;VALUE=URI:https://www.socaspot.org/events/u15-girls-challenge-player
 -placement-session-2/
UID:urn:uuid:03918731-f026-4825-a7e3-0d79e4aa3273
STATUS:CONFIRMED
ORGANIZER:
DTSTAMP:20260421T091159Z
DTSTART;TZID=America/New_York:20250507T190000
DTEND;TZID=America/New_York:20250507T203000
END:VEVENT
END:VCALENDAR