
BEGIN:VCALENDAR
METHOD:PUBLISH
VERSION:2.0
CALSCALE:GREGORIAN
PRODID:-//NONSGML WPForms//NONSGML Sugar Calendar Feeds v3.10.0//EN
X-WR-CALNAME:U15 Boys Challenge Player Placement Session
X-WR-CALDESC:Soccer Organization Charlottesville Area
X-WR-TIMEZONE:America/New_York
BEGIN:VTIMEZONE
TZID:America/New_York
BEGIN:STANDARD
TZOFFSETFROM:-0400
TZOFFSETTO:-0500
DTSTART:20241103T060000
TZNAME:EST
END:STANDARD
BEGIN:DAYLIGHT
TZOFFSETFROM:-0500
TZOFFSETTO:-0400
DTSTART:20250309T070000
TZNAME:EDT
END:DAYLIGHT
END:VTIMEZONE
BEGIN:VTIMEZONE
TZID:America/New_York
BEGIN:STANDARD
TZOFFSETFROM:-0400
TZOFFSETTO:-0500
DTSTART:20241103T060000
TZNAME:EST
END:STANDARD
BEGIN:DAYLIGHT
TZOFFSETFROM:-0500
TZOFFSETTO:-0400
DTSTART:20250309T070000
TZNAME:EDT
END:DAYLIGHT
END:VTIMEZONE
BEGIN:VEVENT
SUMMARY:U15 Boys Challenge Player Placement Session
DESCRIPTION:Annual Player Placement Schedule - Soccer Organization Charl
 ottesville Area
URL;VALUE=URI:https://www.socaspot.org/events/u15-boys-challenge-player-
 placement-session/
UID:urn:uuid:708da9bc-967c-4f09-aec4-2325ff57d709
STATUS:CONFIRMED
ORGANIZER:
DTSTAMP:20260421T091036Z
DTSTART;TZID=America/New_York:20250428T190000
DTEND;TZID=America/New_York:20250428T203000
END:VEVENT
END:VCALENDAR