
BEGIN:VCALENDAR
METHOD:PUBLISH
VERSION:2.0
CALSCALE:GREGORIAN
PRODID:-//NONSGML WPForms//NONSGML Sugar Calendar Feeds v3.10.0//EN
X-WR-CALNAME:U10 Girls Challenge Player Placement Session
X-WR-CALDESC:Soccer Organization Charlottesville Area
X-WR-TIMEZONE:America/New_York
BEGIN:VTIMEZONE
TZID:America/New_York
BEGIN:DAYLIGHT
TZOFFSETFROM:-0500
TZOFFSETTO:-0400
DTSTART:20250309T070000
TZNAME:EDT
END:DAYLIGHT
END:VTIMEZONE
BEGIN:VTIMEZONE
TZID:America/New_York
BEGIN:DAYLIGHT
TZOFFSETFROM:-0500
TZOFFSETTO:-0400
DTSTART:20250309T070000
TZNAME:EDT
END:DAYLIGHT
END:VTIMEZONE
BEGIN:VEVENT
SUMMARY:U10 Girls Challenge Player Placement Session
DESCRIPTION:Annual Player Placement Schedule - Soccer Organization Charl
 ottesville Area
URL;VALUE=URI:https://www.socaspot.org/events/u10-girls-challenge-player
 -placement-session/
UID:urn:uuid:236c5f0a-7e33-45e2-a05f-5c77ab055a9c
STATUS:CONFIRMED
ORGANIZER:
DTSTAMP:20260421T104140Z
DTSTART;TZID=America/New_York:20250519T170000
DTEND;TZID=America/New_York:20250519T183000
END:VEVENT
END:VCALENDAR