
BEGIN:VCALENDAR
METHOD:PUBLISH
VERSION:2.0
CALSCALE:GREGORIAN
PRODID:-//NONSGML WPForms//NONSGML Sugar Calendar Feeds v3.10.0//EN
X-WR-CALNAME:Travel Program Late Player Placements- TIME TBD
X-WR-CALDESC:Soccer Organization Charlottesville Area
X-WR-TIMEZONE:America/New_York
BEGIN:VTIMEZONE
TZID:America/New_York
BEGIN:DAYLIGHT
TZOFFSETFROM:-0500
TZOFFSETTO:-0400
DTSTART:20250309T070000
TZNAME:EDT
END:DAYLIGHT
END:VTIMEZONE
BEGIN:VTIMEZONE
TZID:America/New_York
BEGIN:DAYLIGHT
TZOFFSETFROM:-0500
TZOFFSETTO:-0400
DTSTART:20250309T070000
TZNAME:EDT
END:DAYLIGHT
END:VTIMEZONE
BEGIN:VEVENT
SUMMARY:Travel Program Late Player Placements- TIME TBD
DESCRIPTION:These player placements are intended for new players that ha
 ve recently moved into the Charlottesville area\, players who could not 
 participate in the annual player placements due to injury or schedule co
 nflicts\, or players recommended by SOCA’s Director of Coaching.\n\nAp
 proval from the SOCA Travel Coaching Staff is required in order to parti
 cipate in the late travel player placements.\nFor those interested in tr
 ying out for SOCA Travel programs\, please contact SOCA Coaching Directo
 rs Philip Silverman and Tyler Hudson for travel team roster availability
 .
URL;VALUE=URI:https://www.socaspot.org/events/travel-program-late-player
 -placements-time-tbd/
UID:urn:uuid:fef7d8e7-bf86-4a55-8d5c-3f6a50246afe
STATUS:CONFIRMED
ORGANIZER:
DTSTAMP:20260421T091001Z
DTSTART;VALUE=DATE:20250804
END:VEVENT
END:VCALENDAR