
BEGIN:VCALENDAR
METHOD:PUBLISH
VERSION:2.0
CALSCALE:GREGORIAN
PRODID:-//NONSGML WPForms//NONSGML Sugar Calendar Feeds v3.10.0//EN
X-WR-CALNAME:Summer Adult League Opening Week
X-WR-CALDESC:Soccer Organization Charlottesville Area
X-WR-TIMEZONE:America/New_York
BEGIN:VTIMEZONE
TZID:America/New_York
BEGIN:DAYLIGHT
TZOFFSETFROM:-0500
TZOFFSETTO:-0400
DTSTART:20250309T070000
TZNAME:EDT
END:DAYLIGHT
END:VTIMEZONE
BEGIN:VTIMEZONE
TZID:America/New_York
BEGIN:DAYLIGHT
TZOFFSETFROM:-0500
TZOFFSETTO:-0400
DTSTART:20250309T070000
TZNAME:EDT
END:DAYLIGHT
END:VTIMEZONE
BEGIN:VEVENT
SUMMARY:Summer Adult League Opening Week
DESCRIPTION:Opening week of play for the SOCA Summer Adult Leagues
URL;VALUE=URI:https://www.socaspot.org/events/summer-adult-league-openin
 g-week/
UID:urn:uuid:4cad66a7-fd35-43f5-a1c6-69f7574f793e
STATUS:CONFIRMED
ORGANIZER:
DTSTAMP:20260419T133058Z
DTSTART;VALUE=DATE:20250602
DTEND;VALUE=DATE:20250605
END:VEVENT
END:VCALENDAR