
BEGIN:VCALENDAR
METHOD:PUBLISH
VERSION:2.0
CALSCALE:GREGORIAN
PRODID:-//NONSGML WPForms//NONSGML Sugar Calendar Feeds v3.10.0//EN
X-WR-CALNAME:SOCA U10 (2015-2016) Boys Challenge Annual Player Placement
  Sessions!
X-WR-CALDESC:Soccer Organization Charlottesville Area
X-WR-TIMEZONE:America/New_York
BEGIN:VTIMEZONE
TZID:America/New_York
BEGIN:DAYLIGHT
TZOFFSETFROM:-0500
TZOFFSETTO:-0400
DTSTART:20240310T070000
TZNAME:EDT
END:DAYLIGHT
END:VTIMEZONE
BEGIN:VTIMEZONE
TZID:America/New_York
BEGIN:DAYLIGHT
TZOFFSETFROM:-0500
TZOFFSETTO:-0400
DTSTART:20240310T070000
TZNAME:EDT
END:DAYLIGHT
END:VTIMEZONE
BEGIN:VEVENT
SUMMARY:SOCA U10 (2015-2016) Boys Challenge Annual Player Placement Sess
 ions!
DESCRIPTION:This is the second session for this age group. All player pl
 acement sessions are hosted at South Fork Soccer Park\, 1685 Polo Ground
 s Rd Charlottesville\, VA 22911. The player placement session will take 
 place from 5:00-6:30pm.
URL;VALUE=URI:https://www.socaspot.org/events/soca-u10-2015-2016-boys-ch
 allenge-annual-player-placement-sessions/
UID:urn:uuid:b3c29053-7bfe-4bb0-820f-feb6f220188a
STATUS:CONFIRMED
ORGANIZER:
DTSTAMP:20260424T235927Z
DTSTART;TZID=America/New_York:20240508T170000
DTEND;TZID=America/New_York:20240508T183000
END:VEVENT
END:VCALENDAR