
BEGIN:VCALENDAR
METHOD:PUBLISH
VERSION:2.0
CALSCALE:GREGORIAN
PRODID:-//NONSGML WPForms//NONSGML Sugar Calendar Feeds v3.10.0//EN
X-WR-CALNAME:2012 U14 Boys Travel Player Placement Sessions
X-WR-CALDESC:Soccer Organization Charlottesville Area
X-WR-TIMEZONE:America/New_York
BEGIN:VTIMEZONE
TZID:America/New_York
BEGIN:STANDARD
TZOFFSETFROM:-0400
TZOFFSETTO:-0500
DTSTART:20241103T060000
TZNAME:EST
END:STANDARD
BEGIN:DAYLIGHT
TZOFFSETFROM:-0500
TZOFFSETTO:-0400
DTSTART:20250309T070000
TZNAME:EDT
END:DAYLIGHT
END:VTIMEZONE
BEGIN:VTIMEZONE
TZID:America/New_York
BEGIN:STANDARD
TZOFFSETFROM:-0400
TZOFFSETTO:-0500
DTSTART:20241103T060000
TZNAME:EST
END:STANDARD
BEGIN:DAYLIGHT
TZOFFSETFROM:-0500
TZOFFSETTO:-0400
DTSTART:20250309T070000
TZNAME:EDT
END:DAYLIGHT
END:VTIMEZONE
BEGIN:VEVENT
SUMMARY:2012 U14 Boys Travel Player Placement Sessions
DESCRIPTION:Annual Player Placement Schedule - Soccer Organization Charl
 ottesville Area
URL;VALUE=URI:https://www.socaspot.org/events/2012-u14-boys-travel-playe
 r-placement-sessions/
UID:urn:uuid:ad8bb964-b639-41f8-b310-fffb97d97a71
STATUS:CONFIRMED
ORGANIZER:
DTSTAMP:20260419T132809Z
DTSTART;TZID=America/New_York:20250430T190000
DTEND;TZID=America/New_York:20250430T203000
END:VEVENT
END:VCALENDAR