
BEGIN:VCALENDAR
METHOD:PUBLISH
VERSION:2.0
CALSCALE:GREGORIAN
PRODID:-//NONSGML WPForms//NONSGML Sugar Calendar Feeds v3.10.0//EN
X-WR-CALNAME:2010 U16 Girls Travel Player Placement Session
X-WR-CALDESC:Soccer Organization Charlottesville Area
X-WR-TIMEZONE:America/New_York
BEGIN:VTIMEZONE
TZID:America/New_York
BEGIN:STANDARD
TZOFFSETFROM:-0400
TZOFFSETTO:-0500
DTSTART:20241103T060000
TZNAME:EST
END:STANDARD
BEGIN:DAYLIGHT
TZOFFSETFROM:-0500
TZOFFSETTO:-0400
DTSTART:20250309T070000
TZNAME:EDT
END:DAYLIGHT
END:VTIMEZONE
BEGIN:VTIMEZONE
TZID:America/New_York
BEGIN:STANDARD
TZOFFSETFROM:-0400
TZOFFSETTO:-0500
DTSTART:20241103T060000
TZNAME:EST
END:STANDARD
BEGIN:DAYLIGHT
TZOFFSETFROM:-0500
TZOFFSETTO:-0400
DTSTART:20250309T070000
TZNAME:EDT
END:DAYLIGHT
END:VTIMEZONE
BEGIN:VEVENT
SUMMARY:2010 U16 Girls Travel Player Placement Session
DESCRIPTION:Annual Player Placement Schedule - Soccer Organization Charl
 ottesville Area
URL;VALUE=URI:https://www.socaspot.org/events/2010-u16-girls-travel-play
 er-placement-session-2/
UID:urn:uuid:096faa58-f05b-4a5a-b488-65f4db9a5a47
STATUS:CONFIRMED
ORGANIZER:
DTSTAMP:20260421T103631Z
DTSTART;TZID=America/New_York:20250504T150000
DTEND;TZID=America/New_York:20250504T163000
END:VEVENT
END:VCALENDAR